BEGIN:VCALENDAR
VERSION:2.0
PRODID:-//Colegio La Providencia - ECPv5.2.1//NONSGML v1.0//EN
CALSCALE:GREGORIAN
METHOD:PUBLISH
X-WR-CALNAME:Colegio La Providencia
X-ORIGINAL-URL:http://laprovidenciaovalle.cl/colegio
X-WR-CALDESC:Eventos para Colegio La Providencia
BEGIN:VTIMEZONE
TZID:America/Santiago
BEGIN:STANDARD
TZOFFSETFROM:-0300
TZOFFSETTO:-0400
TZNAME:-04
DTSTART:20190407T030000
END:STANDARD
BEGIN:DAYLIGHT
TZOFFSETFROM:-0400
TZOFFSETTO:-0300
TZNAME:-03
DTSTART:20190908T040000
END:DAYLIGHT
END:VTIMEZONE
BEGIN:VEVENT
DTSTART;TZID=America/Santiago:20190619T120000
DTEND;TZID=America/Santiago:20190619T130000
DTSTAMP:20260425T094445
CREATED:20190604T165425Z
LAST-MODIFIED:20190604T165425Z
UID:2198-1560945600-1560949200@laprovidenciaovalle.cl
SUMMARY:Acto Día del Padre
DESCRIPTION:
URL:http://laprovidenciaovalle.cl/colegio/evento/acto-dia-del-padre/
END:VEVENT
END:VCALENDAR