BEGIN:VCALENDAR
VERSION:2.0
PRODID:-//Colegio La Providencia - ECPv5.2.1//NONSGML v1.0//EN
CALSCALE:GREGORIAN
METHOD:PUBLISH
X-WR-CALNAME:Colegio La Providencia
X-ORIGINAL-URL:http://laprovidenciaovalle.cl/colegio
X-WR-CALDESC:Eventos para Colegio La Providencia
BEGIN:VTIMEZONE
TZID:America/Santiago
BEGIN:STANDARD
TZOFFSETFROM:-0300
TZOFFSETTO:-0400
TZNAME:-04
DTSTART:20180513T030000
END:STANDARD
BEGIN:DAYLIGHT
TZOFFSETFROM:-0400
TZOFFSETTO:-0300
TZNAME:-03
DTSTART:20180812T040000
END:DAYLIGHT
END:VTIMEZONE
BEGIN:VEVENT
DTSTART;VALUE=DATE:20181230
DTEND;VALUE=DATE:20181231
DTSTAMP:20260424T110448
CREATED:20181221T195626Z
LAST-MODIFIED:20181221T195757Z
UID:2124-1546128000-1546214399@laprovidenciaovalle.cl
SUMMARY:Bautizo de Madre Bernarda Morin bajo el nombre de Venerance (1832)
DESCRIPTION:
URL:http://laprovidenciaovalle.cl/colegio/evento/bautizo-de-madre-bernarda-morin-bajo-el-nombre-de-venerance/
END:VEVENT
END:VCALENDAR