BEGIN:VCALENDAR
VERSION:2.0
PRODID:-//Colegio La Providencia - ECPv5.2.1//NONSGML v1.0//EN
CALSCALE:GREGORIAN
METHOD:PUBLISH
X-WR-CALNAME:Colegio La Providencia
X-ORIGINAL-URL:http://laprovidenciaovalle.cl/colegio
X-WR-CALDESC:Eventos para Colegio La Providencia
BEGIN:VTIMEZONE
TZID:America/Santiago
BEGIN:STANDARD
TZOFFSETFROM:-0300
TZOFFSETTO:-0400
TZNAME:-04
DTSTART:20190407T030000
END:STANDARD
BEGIN:DAYLIGHT
TZOFFSETFROM:-0400
TZOFFSETTO:-0300
TZNAME:-03
DTSTART:20190908T040000
END:DAYLIGHT
END:VTIMEZONE
BEGIN:VEVENT
DTSTART;VALUE=DATE:20190206
DTEND;VALUE=DATE:20190207
DTSTAMP:20260424T154323
CREATED:20181228T150919Z
LAST-MODIFIED:20181228T150938Z
UID:2134-1549411200-1549497599@laprovidenciaovalle.cl
SUMMARY:Conmemoración: Fundación de la Casa Matriz de las Hermanas de la Providencia en Santiago de Chile (1885)
DESCRIPTION:
URL:http://laprovidenciaovalle.cl/colegio/evento/conmemoracion-fundacion-de-la-casa-matriz-de-las-hermanas-de-la-providencia-en-santiago-de-chile-1885/
END:VEVENT
END:VCALENDAR