BEGIN:VCALENDAR
VERSION:2.0
PRODID:-//Colegio La Providencia - ECPv5.2.1//NONSGML v1.0//EN
CALSCALE:GREGORIAN
METHOD:PUBLISH
X-WR-CALNAME:Colegio La Providencia
X-ORIGINAL-URL:http://laprovidenciaovalle.cl/colegio
X-WR-CALDESC:Eventos para Colegio La Providencia
BEGIN:VTIMEZONE
TZID:America/Santiago
BEGIN:STANDARD
TZOFFSETFROM:-0300
TZOFFSETTO:-0400
TZNAME:-04
DTSTART:20190407T030000
END:STANDARD
BEGIN:DAYLIGHT
TZOFFSETFROM:-0400
TZOFFSETTO:-0300
TZNAME:-03
DTSTART:20190908T040000
END:DAYLIGHT
END:VTIMEZONE
BEGIN:VEVENT
DTSTART;VALUE=DATE:20190117
DTEND;VALUE=DATE:20190118
DTSTAMP:20260424T140548
CREATED:20181228T150826Z
LAST-MODIFIED:20181228T150852Z
UID:2132-1547683200-1547769599@laprovidenciaovalle.cl
SUMMARY:Conmemoración: Madre Bernarda Morin es elegida Superiora Interina de la Congregación en Chile (1864)
DESCRIPTION:
URL:http://laprovidenciaovalle.cl/colegio/evento/conmemoracion-madre-bernarda-morin-es-elegida-superiora-interina-de-la-congregacion-en-chile-1864/
END:VEVENT
END:VCALENDAR