BEGIN:VCALENDAR
VERSION:2.0
PRODID:-//Colegio La Providencia - ECPv5.2.1//NONSGML v1.0//EN
CALSCALE:GREGORIAN
METHOD:PUBLISH
X-WR-CALNAME:Colegio La Providencia
X-ORIGINAL-URL:http://laprovidenciaovalle.cl/colegio
X-WR-CALDESC:Eventos para Colegio La Providencia
BEGIN:VTIMEZONE
TZID:America/Santiago
BEGIN:STANDARD
TZOFFSETFROM:-0300
TZOFFSETTO:-0400
TZNAME:-04
DTSTART:20180513T030000
END:STANDARD
BEGIN:DAYLIGHT
TZOFFSETFROM:-0400
TZOFFSETTO:-0300
TZNAME:-03
DTSTART:20180812T040000
END:DAYLIGHT
END:VTIMEZONE
BEGIN:VEVENT
DTSTART;TZID=America/Santiago:20181006T083000
DTEND;TZID=America/Santiago:20181006T130000
DTSTAMP:20260423T040821
CREATED:20180927T221025Z
LAST-MODIFIED:20180927T221025Z
UID:2059-1538814600-1538830800@laprovidenciaovalle.cl
SUMMARY:Coronación Reina Providencia
DESCRIPTION:
URL:http://laprovidenciaovalle.cl/colegio/evento/coronacion-reina-providencia/
END:VEVENT
END:VCALENDAR