BEGIN:VCALENDAR
VERSION:2.0
PRODID:-//Colegio La Providencia - ECPv5.2.1//NONSGML v1.0//EN
CALSCALE:GREGORIAN
METHOD:PUBLISH
X-WR-CALNAME:Colegio La Providencia
X-ORIGINAL-URL:http://laprovidenciaovalle.cl/colegio
X-WR-CALDESC:Eventos para Colegio La Providencia
BEGIN:VTIMEZONE
TZID:America/Santiago
BEGIN:STANDARD
TZOFFSETFROM:-0300
TZOFFSETTO:-0400
TZNAME:-04
DTSTART:20180513T030000
END:STANDARD
BEGIN:DAYLIGHT
TZOFFSETFROM:-0400
TZOFFSETTO:-0300
TZNAME:-03
DTSTART:20180812T040000
END:DAYLIGHT
END:VTIMEZONE
BEGIN:VEVENT
DTSTART;VALUE=DATE:20180401
DTEND;VALUE=DATE:20180402
DTSTAMP:20260420T080405
CREATED:20180326T141953Z
LAST-MODIFIED:20180326T142046Z
UID:1617-1522540800-1522627199@laprovidenciaovalle.cl
SUMMARY:Domingo de Resurrección
DESCRIPTION:
URL:http://laprovidenciaovalle.cl/colegio/evento/domingo-de-resurreccion/
END:VEVENT
END:VCALENDAR