BEGIN:VCALENDAR
VERSION:2.0
PRODID:-//Colegio La Providencia - ECPv5.2.1//NONSGML v1.0//EN
CALSCALE:GREGORIAN
METHOD:PUBLISH
X-WR-CALNAME:Colegio La Providencia
X-ORIGINAL-URL:http://laprovidenciaovalle.cl/colegio
X-WR-CALDESC:Eventos para Colegio La Providencia
BEGIN:VTIMEZONE
TZID:UTC
BEGIN:STANDARD
TZOFFSETFROM:+0000
TZOFFSETTO:+0000
TZNAME:UTC
DTSTART:20160101T000000
END:STANDARD
END:VTIMEZONE
BEGIN:VEVENT
DTSTART;TZID=UTC:20160415T080000
DTEND;TZID=UTC:20160415T170000
DTSTAMP:20260420T063754
CREATED:20160401T135516Z
LAST-MODIFIED:20160401T135516Z
UID:858-1460707200-1460739600@laprovidenciaovalle.cl
SUMMARY:Easter Mass in school for pupils and staff
DESCRIPTION:There are two classes for each year group with a total of 420 pupils from Reception to Year 6. Attainment at St Monica’s has been consistently ‘outstanding’ at Key Stage 2 for the last five years. But academic achievement is not our only concern. Whilst we aim to ensure every child reaches their full potential academically\, they are also taught that they can be successful in many different ways. This could be anything from being a good friend to being a fantastic musician\, sports person or artist\, the list is endless! The children are also taught that it is good to make mistakes because that is how you learn and persistence is key! “Strive to succeed in the presence of God!” is our motto and one that fits well with our ethos. The parents of our children are very supportive of the school and this is valued as an essential ingredient for making our school as successful as it is.
URL:http://laprovidenciaovalle.cl/colegio/evento/easter-mass-in-school-for-pupils-and-staff/
LOCATION:Easter Mass in school\, Cannon Road Southgate \, London N14 7HE\, United Kingdom
END:VEVENT
END:VCALENDAR