BEGIN:VCALENDAR
VERSION:2.0
PRODID:-//Colegio La Providencia - ECPv5.2.1//NONSGML v1.0//EN
CALSCALE:GREGORIAN
METHOD:PUBLISH
X-WR-CALNAME:Colegio La Providencia
X-ORIGINAL-URL:http://laprovidenciaovalle.cl/colegio
X-WR-CALDESC:Eventos para Colegio La Providencia
BEGIN:VTIMEZONE
TZID:UTC
BEGIN:STANDARD
TZOFFSETFROM:+0000
TZOFFSETTO:+0000
TZNAME:UTC
DTSTART:20160101T000000
END:STANDARD
END:VTIMEZONE
BEGIN:VEVENT
DTSTART;TZID=UTC:20160307T080000
DTEND;TZID=UTC:20170308T170000
DTSTAMP:20260420T132517
CREATED:20160225T160428Z
LAST-MODIFIED:20160225T160428Z
UID:43-1457337600-1488992400@laprovidenciaovalle.cl
SUMMARY:Creative Workshop With Mentari
DESCRIPTION:In October\, ArtWorks for Freedom partnered with Mentari Human Trafficking Survivor Empowerment Program to hold a two-day photography workshop in New York City. Conducted by Kay Chernush\, the workshop introduced 6 participants to principles of composition\, color\, texture\, and the idea of photographing with intention.  Participants used their cameras to explore a Queens neighborhood and park\, learning how to capture a sense of place and opening their eyes to the many visual possibilities around them. \nIf you work directly with survivors and would like to set up a photography workshop\, please contact us for more information.
URL:http://laprovidenciaovalle.cl/colegio/evento/event-1/
LOCATION:Location\, Address\, City\, 21000
ORGANIZER;CN="Organizer":MAILTO:qwe@asd.com
END:VEVENT
END:VCALENDAR