BEGIN:VCALENDAR
VERSION:2.0
PRODID:-//Colegio La Providencia - ECPv5.2.1//NONSGML v1.0//EN
CALSCALE:GREGORIAN
METHOD:PUBLISH
X-WR-CALNAME:Colegio La Providencia
X-ORIGINAL-URL:http://laprovidenciaovalle.cl/colegio
X-WR-CALDESC:Eventos para Colegio La Providencia
BEGIN:VTIMEZONE
TZID:America/Santiago
BEGIN:STANDARD
TZOFFSETFROM:-0300
TZOFFSETTO:-0400
TZNAME:-04
DTSTART:20190407T030000
END:STANDARD
BEGIN:DAYLIGHT
TZOFFSETFROM:-0400
TZOFFSETTO:-0300
TZNAME:-03
DTSTART:20190908T040000
END:DAYLIGHT
END:VTIMEZONE
BEGIN:VEVENT
DTSTART;TZID=America/Santiago:20190521T080000
DTEND;TZID=America/Santiago:20190521T170000
DTSTAMP:20260424T215103
CREATED:20190515T182331Z
LAST-MODIFIED:20190515T182331Z
UID:2169-1558425600-1558458000@laprovidenciaovalle.cl
SUMMARY:Feriado
DESCRIPTION:
URL:http://laprovidenciaovalle.cl/colegio/evento/feriado-3/
END:VEVENT
END:VCALENDAR