BEGIN:VCALENDAR
VERSION:2.0
PRODID:-//Colegio La Providencia - ECPv5.2.1//NONSGML v1.0//EN
CALSCALE:GREGORIAN
METHOD:PUBLISH
X-WR-CALNAME:Colegio La Providencia
X-ORIGINAL-URL:http://laprovidenciaovalle.cl/colegio
X-WR-CALDESC:Eventos para Colegio La Providencia
BEGIN:VTIMEZONE
TZID:UTC
BEGIN:STANDARD
TZOFFSETFROM:+0000
TZOFFSETTO:+0000
TZNAME:UTC
DTSTART:20170101T000000
END:STANDARD
END:VTIMEZONE
BEGIN:VEVENT
DTSTART;TZID=UTC:20170406T080000
DTEND;TZID=UTC:20170526T170000
DTSTAMP:20260420T050540
CREATED:20160331T163757Z
LAST-MODIFIED:20171213T222435Z
UID:798-1491465600-1495818000@laprovidenciaovalle.cl
SUMMARY:Spring Break - schools closed
DESCRIPTION:The Manhasset Union Free School District is in compliance with the U.S. Civil Rights Act of 1964 and the Title IX Educational Amendments of 1972\, Part 86. The School District provides equal employment and educational opportunities to all individuals without regard to race\, color\, creed\, religion\, national origin\, political affiliation\, sex\, sexual orientation\, age\, marital status\, veteran status or disability.
URL:http://laprovidenciaovalle.cl/colegio/evento/spring-break-schools-closed/
LOCATION:Unnamed Venue\, Glass Box Performance Space\, Arnhold Hall\, 1st floor\,  New York\, United States
END:VEVENT
END:VCALENDAR