BEGIN:VCALENDAR
VERSION:2.0
PRODID:-//Colegio La Providencia - ECPv5.2.1//NONSGML v1.0//EN
CALSCALE:GREGORIAN
METHOD:PUBLISH
X-WR-CALNAME:Colegio La Providencia
X-ORIGINAL-URL:http://laprovidenciaovalle.cl/colegio
X-WR-CALDESC:Eventos para Colegio La Providencia
BEGIN:VTIMEZONE
TZID:America/Santiago
BEGIN:STANDARD
TZOFFSETFROM:-0300
TZOFFSETTO:-0400
TZNAME:-04
DTSTART:20180513T030000
END:STANDARD
BEGIN:DAYLIGHT
TZOFFSETFROM:-0400
TZOFFSETTO:-0300
TZNAME:-03
DTSTART:20180812T040000
END:DAYLIGHT
END:VTIMEZONE
BEGIN:VEVENT
DTSTART;TZID=America/Santiago:20181029T140000
DTEND;TZID=America/Santiago:20181029T170000
DTSTAMP:20260423T141240
CREATED:20180927T222031Z
LAST-MODIFIED:20180927T222116Z
UID:2079-1540821600-1540832400@laprovidenciaovalle.cl
SUMMARY:Tarde Familiar (14:00)
DESCRIPTION:
URL:http://laprovidenciaovalle.cl/colegio/evento/tarde-familiar-1400/
END:VEVENT
END:VCALENDAR